BEGIN:VCALENDAR
VERSION:2.0
METHOD:PUBLISH
PRODID:-//hacksw/handcal//NONSGML v1.0//EN
BEGIN:VEVENT
DTSTAMP:20260426T013923Z
DTSTART:20200422T230000Z
DTEND:20200423T010000Z
UID:20200422T230000Z-20200423T010000Z-1021@townsend.delaware.gov
SUMMARY:Town Council Workshop Meeting
DESCRIPTION:4-22-2020 TC Workshop Agenda Final_ (002)\n\nAtlantic Broa
 dband Franchise Agreement \n\nTown of Townsend - Atlantic Broadband Re
 solution \n\nRevised Codes Ord. 2018\n\n2020-4-22 TC Workshop Minutes\
 n\n 
X-ALT-DESC;FMTTYPE=text/html:<p><a href=https://townsend.delaware.gov/
 files/2020/04/4-22-2020-TC-Workshop-Agenda-Final_-002.pdf>4-22-2020 TC
  Workshop Agenda Final_ (002)</a></p>\n<p><a href=https://townsend.del
 aware.gov/files/2020/04/Town-of-Townsend-Franchise-Agreement-3-11-2020
 .pdf>Atlantic Broadband Franchise Agreement </a></p>\n<p><a href=https
 ://townsend.delaware.gov/files/2020/04/Town-of-Townsend-Atlantic-Broad
 band-Approval-Resolution-4-14-2020.pdf>Town of Townsend &#8211\; Atlan
 tic Broadband Resolution </a></p>\n<p><a href=https://townsend.delawar
 e.gov/files/2020/04/Revised-Codes-Ord.-2018.pdf>Revised Codes Ord. 201
 8</a></p>\n<p><a href=https://townsend.delaware.gov/files/2020/05/2020
 -4-22-TC-Workshop-Minutes-.pdf>2020-4-22 TC Workshop Minutes</a></p>\n
 <p>&nbsp\;</p>\n
URL:https://townsend.delaware.gov/events/town-council-workshop-meeting
 -11/?lang=en
ATTACH:https://townsend.delaware.gov/events/town-council-workshop-meet
 ing-11/?lang=en
LOCATION:Town Hall\, 141 Main Street\, Townsend
END:VEVENT
END:VCALENDAR
