BEGIN:VCALENDAR
VERSION:2.0
METHOD:PUBLISH
PRODID:-//hacksw/handcal//NONSGML v1.0//EN
BEGIN:VEVENT
DTSTAMP:20260426T013839Z
DTSTART:20191012T130000Z
DTEND:20191012T150000Z
UID:20191012T130000Z-20191012T150000Z-1060@townsend.delaware.gov
SUMMARY:Planning Commission - Special Meeting
DESCRIPTION:October 12\, 2019 PC Special Meeting Agenda\n\nOctober 12 
 2019 PC Special Meeting minutes
X-ALT-DESC;FMTTYPE=text/html:<p><a href=https://townsend.delaware.gov/
 files/2019/10/October-12-2019-PC-Special-Agenda.pdf>October 12\, 2019 
 PC Special Meeting Agenda</a></p>\n<p><a href=https://townsend.delawar
 e.gov/files/2020/04/October-12-2019-PC-Special-Meeting-minutes.pdf>Oct
 ober 12 2019 PC Special Meeting minutes</a></p>\n
URL:https://townsend.delaware.gov/events/planning-commission-special-m
 eeting/?lang=en
ATTACH:https://townsend.delaware.gov/events/planning-commission-specia
 l-meeting/?lang=en
LOCATION:Town Hall\, 141 Main Street Townsend\, Delaware 19734\,
END:VEVENT
END:VCALENDAR
