BEGIN:VCALENDAR
VERSION:2.0
METHOD:PUBLISH
PRODID:-//hacksw/handcal//NONSGML v1.0//EN
BEGIN:VEVENT
DTSTAMP:20260425T113230Z
DTSTART:20200115T230000Z
DTEND:20200116T010000Z
UID:20200115T230000Z-20200116T010000Z-1100@townsend.delaware.gov
SUMMARY:Planning Commission Meeting
DESCRIPTION:PC 1-15-20 Agenda-Updated\n\nPC 1-15-20 Minutes
X-ALT-DESC;FMTTYPE=text/html:<p><a href=https://townsend.delaware.gov/
 files/2020/03/PC-1-15-20-Agenda-Updated.pdf>PC 1-15-20 Agenda-Updated<
 /a></p>\n<p><a href=https://townsend.delaware.gov/files/2020/04/PC-1-1
 5-20-Minutes.pdf>PC 1-15-20 Minutes</a></p>\n
URL:https://townsend.delaware.gov/events/planning-commission-meeting-2
 0/?lang=en
ATTACH:https://townsend.delaware.gov/events/planning-commission-meetin
 g-20/?lang=en
LOCATION:Town Hall\, 141 Main Street Townsend\, Delaware 19734\,
END:VEVENT
END:VCALENDAR
