BEGIN:VCALENDAR
VERSION:2.0
METHOD:PUBLISH
PRODID:-//hacksw/handcal//NONSGML v1.0//EN
BEGIN:VEVENT
DTSTAMP:20260426T001718Z
DTSTART:20200401T223000Z
DTEND:20200401T230000Z
UID:20200401T223000Z-20200401T230000Z-1120@townsend.delaware.gov
SUMMARY:Public Hearing - Proposed Zoning Ordinance Changes - CANCELLED
DESCRIPTION: \n\nTC Public Hearing Agenda 3-25-20
X-ALT-DESC;FMTTYPE=text/html:<p>&nbsp\;</p>\n<p><a href=https://townse
 nd.delaware.gov/files/2020/03/TC-Hearing-32520-2.pdf>TC Public Hearing
  Agenda 3-25-20</a></p>\n
URL:https://townsend.delaware.gov/events/public-hearing-board-of-adjus
 tment-2/?lang=en
ATTACH:https://townsend.delaware.gov/events/public-hearing-board-of-ad
 justment-2/?lang=en
LOCATION:Town Hall\, 141 Main Street Townsend\, Delaware 19734\,
END:VEVENT
END:VCALENDAR
