BEGIN:VCALENDAR
VERSION:2.0
METHOD:PUBLISH
PRODID:-//hacksw/handcal//NONSGML v1.0//EN
BEGIN:VEVENT
DTSTAMP:20260426T013838Z
DTSTART:20191009T230000Z
DTEND:20191010T010000Z
UID:20191009T230000Z-20191010T010000Z-1136@townsend.delaware.gov
SUMMARY:Planning Commission Meeting
DESCRIPTION:October 09 2019 PC Minutes
X-ALT-DESC;FMTTYPE=text/html:<p><a href=https://townsend.delaware.gov/
 files/2020/04/October-09-2019-PC-Minutes.pdf>October 09 2019 PC Minute
 s</a></p>\n
URL:https://townsend.delaware.gov/events/planning-commission-meeting-2
 3/?lang=en
ATTACH:https://townsend.delaware.gov/events/planning-commission-meetin
 g-23/?lang=en
LOCATION:Town Hall\, 141 Main Street Townsend\, Delaware 19734\,
END:VEVENT
END:VCALENDAR
