BEGIN:VCALENDAR
VERSION:2.0
METHOD:PUBLISH
PRODID:-//hacksw/handcal//NONSGML v1.0//EN
BEGIN:VEVENT
DTSTAMP:20260424T033916Z
DTSTART:20151121T123000Z
DTEND:20151121T180000Z
UID:20151121T123000Z-20151121T180000Z-152@townsend.delaware.gov
SUMMARY:Townsend Fire Company - Craft Fair
DESCRIPTION:There will be food available for purchase.
X-ALT-DESC;FMTTYPE=text/html:<p>There will be food available for purch
 ase.</p>\n
URL:https://townsend.delaware.gov/events/152/townsend-fire-company-cra
 ft-fair/?lang=en
ATTACH:https://townsend.delaware.gov/events/152/townsend-fire-company-
 craft-fair/?lang=en
LOCATION:Townsend Fire Hall\, 107 Main Street\, Townsend\, Delaware 19
 734
END:VEVENT
END:VCALENDAR
