BEGIN:VCALENDAR
VERSION:2.0
METHOD:PUBLISH
PRODID:-//hacksw/handcal//NONSGML v1.0//EN
BEGIN:VEVENT
DTSTAMP:20260419T174821Z
DTSTART:20160907T233000Z
DTEND:20160908T010000Z
UID:20160907T233000Z-20160908T010000Z-235@townsend.delaware.gov
SUMMARY:Town Council Meeting
DESCRIPTION:9-7-16-meetings-cancelled
X-ALT-DESC;FMTTYPE=text/html:<p><a href=http://townsend.delaware.gov/f
 iles/2016/12/9-7-16-MEETINGS-CANCELLED-FLYER.pdf>9-7-16-meetings-cance
 lled</a></p>\n
URL:https://townsend.delaware.gov/events/235/town-council-meeting/?lan
 g=en
ATTACH:https://townsend.delaware.gov/events/235/town-council-meeting/?
 lang=en
LOCATION:Town Hall\, 141 Main Street Townsend\, Delaware 19734\,
END:VEVENT
END:VCALENDAR
