BEGIN:VCALENDAR
VERSION:2.0
METHOD:PUBLISH
PRODID:-//hacksw/handcal//NONSGML v1.0//EN
BEGIN:VEVENT
DTSTAMP:20260425T190544Z
DTSTART:20120606T230000Z
DTEND:20120607T000000Z
UID:20120606T230000Z-20120607T000000Z-28@townsend.delaware.gov
SUMMARY:Public Hearing/Re-org/Town Council Meeting
DESCRIPTION:Re-Organizational/Council meeting minutes: 6-6-12
X-ALT-DESC;FMTTYPE=text/html:<p><a href=/files/2015/02/Re-Organization
 al-Council-meeting-minutes-6-6-12.pdf target=_blank>Re-Organizational/
 Council meeting minutes: 6-6-12</a></p>\n
URL:https://townsend.delaware.gov/events/28/public-hearingre-orgtown-c
 ouncil-meeting/?lang=en
ATTACH:https://townsend.delaware.gov/events/28/public-hearingre-orgtow
 n-council-meeting/?lang=en
LOCATION:Townsend Fire Station\, 107 Main Street\, Townsend\, DE 19734
END:VEVENT
END:VCALENDAR
