BEGIN:VCALENDAR
VERSION:2.0
METHOD:PUBLISH
PRODID:-//hacksw/handcal//NONSGML v1.0//EN
BEGIN:VEVENT
DTSTAMP:20260426T000623Z
DTSTART:20170621T230000Z
DTEND:20170622T010000Z
UID:20170621T230000Z-20170622T010000Z-335@townsend.delaware.gov
SUMMARY:Town Council Workshop Meeting
DESCRIPTION:Agenda\n\n6-21-17 workshop minutes
X-ALT-DESC;FMTTYPE=text/html:<p><a href=http://townsend.delaware.gov/f
 iles/2017/06/6-21-17-workshop-agenda.pdf>Agenda</a></p>\n<p><a href=ht
 tp://townsend.delaware.gov/files/2017/07/6-21-17-workshop-minutes.pdf>
 6-21-17 workshop minutes</a></p>\n
URL:https://townsend.delaware.gov/events/335/town-council-workshop-mee
 ting/?lang=en
ATTACH:https://townsend.delaware.gov/events/335/town-council-workshop-
 meeting/?lang=en
LOCATION:Town Hall\, 141 Main Street\, Townsend\, DE   19734
END:VEVENT
END:VCALENDAR
