BEGIN:VCALENDAR
VERSION:2.0
METHOD:PUBLISH
PRODID:-//hacksw/handcal//NONSGML v1.0//EN
BEGIN:VEVENT
DTSTAMP:20260426T000626Z
DTSTART:20170823T230000Z
DTEND:20170824T010000Z
UID:20170823T230000Z-20170824T010000Z-341@townsend.delaware.gov
SUMMARY:Town Council Workshop Meeting
DESCRIPTION:8-23-17 workshop agenda\n\n8-23-17 workshop minutes
X-ALT-DESC;FMTTYPE=text/html:<p><a href=http://townsend.delaware.gov/f
 iles/2017/08/8-23-17-workshop-agenda.pdf>8-23-17 workshop agenda</a></
 p>\n<p><a href=https://townsend.delaware.gov/files/2017/11/8-23-17-wor
 kshop-minutes.pdf>8-23-17 workshop minutes</a></p>\n
URL:https://townsend.delaware.gov/events/341/town-council-workshop-mee
 ting/?lang=en
ATTACH:https://townsend.delaware.gov/events/341/town-council-workshop-
 meeting/?lang=en
LOCATION:Town Hall\, 141 Main Street\, Townsend\, DE   19734
END:VEVENT
END:VCALENDAR
