BEGIN:VCALENDAR
VERSION:2.0
METHOD:PUBLISH
PRODID:-//hacksw/handcal//NONSGML v1.0//EN
BEGIN:VEVENT
DTSTAMP:20260420T232257Z
DTSTART:20180103T233000Z
DTEND:20180104T013000Z
UID:20180103T233000Z-20180104T013000Z-450@townsend.delaware.gov
SUMMARY:Town Council Meeting
DESCRIPTION:1-3-18 Council meeting agenda\n\n1-3-18 Council meeting mi
 nutes
X-ALT-DESC;FMTTYPE=text/html:<p><a href=https://townsend.delaware.gov/
 files/2018/01/1-3-18-Council-meeting-agenda.pdf>1-3-18 Council meeting
  agenda</a></p>\n<p><a href=https://townsend.delaware.gov/files/2018/0
 4/1-3-18-Council-meeting-minutes.pdf>1-3-18 Council meeting minutes</a
 ></p>\n
URL:https://townsend.delaware.gov/events/450/town-council-meeting/?lan
 g=en
ATTACH:https://townsend.delaware.gov/events/450/town-council-meeting/?
 lang=en
LOCATION:Town Hall\, 141 Main Street\, Townsend\, DE   19734
END:VEVENT
END:VCALENDAR
