BEGIN:VCALENDAR
VERSION:2.0
METHOD:PUBLISH
PRODID:-//hacksw/handcal//NONSGML v1.0//EN
BEGIN:VEVENT
DTSTAMP:20260426T000625Z
DTSTART:20180905T233000Z
DTEND:20180906T013000Z
UID:20180905T233000Z-20180906T013000Z-474@townsend.delaware.gov
SUMMARY:Town Council Meeting
DESCRIPTION:9-5-18 Council meeting agenda\n\n9-5-18 Council meeting mi
 nutes
X-ALT-DESC;FMTTYPE=text/html:<p><a href=https://townsend.delaware.gov/
 files/2018/09/9-5-18-Council-meeting-agenda.pdf>9-5-18 Council meeting
  agenda</a></p>\n<p><a href=https://townsend.delaware.gov/files/2018/1
 0/9-5-18-Council-meeting-minutes.pdf>9-5-18 Council meeting minutes</a
 ></p>\n
URL:https://townsend.delaware.gov/events/474/town-council-meeting/?lan
 g=en
ATTACH:https://townsend.delaware.gov/events/474/town-council-meeting/?
 lang=en
LOCATION:Town Hall\, 141 Main Street\, Townsend\, DE   19734
END:VEVENT
END:VCALENDAR
