BEGIN:VCALENDAR
VERSION:2.0
METHOD:PUBLISH
PRODID:-//hacksw/handcal//NONSGML v1.0//EN
BEGIN:VEVENT
DTSTAMP:20260425T023807Z
DTSTART:20180110T230000Z
DTEND:20180111T010000Z
UID:20180110T230000Z-20180111T010000Z-486@townsend.delaware.gov
SUMMARY:Planning Commission Meeting
DESCRIPTION:01-10-2018 PC meeting agenda\n\n01-10-18 PC Minutes
X-ALT-DESC;FMTTYPE=text/html:<p><a href=https://townsend.delaware.gov/
 files/2018/01/01-10-2018-PC-meeting.pdf>01-10-2018 PC meeting agenda</
 a></p>\n<p><a href=https://townsend.delaware.gov/files/2018/08/01-10-1
 8-PC-Minutes-1.pdf>01-10-18 PC Minutes</a></p>\n
URL:https://townsend.delaware.gov/events/486/planning-commission-meeti
 ng/?lang=en
ATTACH:https://townsend.delaware.gov/events/486/planning-commission-me
 eting/?lang=en
LOCATION:Town Hall\, 141 Main Street\, Townsend DE
END:VEVENT
END:VCALENDAR
