BEGIN:VCALENDAR
VERSION:2.0
METHOD:PUBLISH
PRODID:-//hacksw/handcal//NONSGML v1.0//EN
BEGIN:VEVENT
DTSTAMP:20260425T220738Z
DTSTART:20180822T230000Z
DTEND:20180823T010000Z
UID:20180822T230000Z-20180823T010000Z-546@townsend.delaware.gov
SUMMARY:Town Council Workshop Meeting
DESCRIPTION:8-22-18 workshop agenda\n\n8-22-18 workshop minutes
X-ALT-DESC;FMTTYPE=text/html:<p><a href=https://townsend.delaware.gov/
 files/2018/10/8-22-18-workshop-agenda.pdf>8-22-18 workshop agenda</a><
 /p>\n<p><a href=https://townsend.delaware.gov/files/2018/10/8-22-18-wo
 rkshop-minutes.pdf>8-22-18 workshop minutes</a></p>\n
URL:https://townsend.delaware.gov/events/546/town-council-workshop-mee
 ting/?lang=en
ATTACH:https://townsend.delaware.gov/events/546/town-council-workshop-
 meeting/?lang=en
LOCATION:Town Hall\, 141 Main Street Townsend\, Delaware 19734\,
END:VEVENT
END:VCALENDAR
