BEGIN:VCALENDAR
VERSION:2.0
METHOD:PUBLISH
PRODID:-//hacksw/handcal//NONSGML v1.0//EN
BEGIN:VEVENT
DTSTAMP:20260426T001341Z
DTSTART:20171206T233000Z
DTEND:20171207T010000Z
UID:20171206T233000Z-20171207T010000Z-567@townsend.delaware.gov
SUMMARY:Town Council Meeting
DESCRIPTION:12-6-17 Council meeting agenda\n\n12-6-17 Council meeting 
 minutes
X-ALT-DESC;FMTTYPE=text/html:<p><a href=https://townsend.delaware.gov/
 files/2017/12/12-6-17-Council-meeting-agenda-1.pdf>12-6-17 Council mee
 ting agenda</a></p>\n<p><a href=https://townsend.delaware.gov/files/20
 18/01/12-6-17-Council-meeting-minutes.pdf>12-6-17 Council meeting minu
 tes</a></p>\n
URL:https://townsend.delaware.gov/events/567/public-hearingtown-counci
 l-meeting/?lang=en
ATTACH:https://townsend.delaware.gov/events/567/public-hearingtown-cou
 ncil-meeting/?lang=en
END:VEVENT
END:VCALENDAR
