BEGIN:VCALENDAR
VERSION:2.0
METHOD:PUBLISH
PRODID:-//hacksw/handcal//NONSGML v1.0//EN
BEGIN:VEVENT
DTSTAMP:20260424T213206Z
DTSTART:20171213T230000Z
DTEND:20171214T010000Z
UID:20171213T230000Z-20171214T010000Z-571@townsend.delaware.gov
SUMMARY:Planning Commission Meeting
DESCRIPTION:12-13-2017 PC Agenda\n\n12-13-2017 PC Minutes
X-ALT-DESC;FMTTYPE=text/html:<p><a href=https://townsend.delaware.gov/
 files/2017/12/12-13-2017-PC-Agenda.pdf>12-13-2017 PC Agenda</a></p>\n<
 p><a href=https://townsend.delaware.gov/files/2018/03/12-13-2017-PC-Mi
 nutes.pdf>12-13-2017 PC Minutes</a></p>\n
URL:https://townsend.delaware.gov/events/571/planning-commission-meeti
 ng/?lang=en
ATTACH:https://townsend.delaware.gov/events/571/planning-commission-me
 eting/?lang=en
END:VEVENT
END:VCALENDAR
