BEGIN:VCALENDAR
VERSION:2.0
METHOD:PUBLISH
PRODID:-//hacksw/handcal//NONSGML v1.0//EN
BEGIN:VEVENT
DTSTAMP:20260426T013555Z
DTSTART:20180711T233000Z
DTEND:20180712T013000Z
UID:20180711T233000Z-20180712T013000Z-655@townsend.delaware.gov
SUMMARY:Town Council Meeting
DESCRIPTION:7-11-18 Council meeting agenda(2)
X-ALT-DESC;FMTTYPE=text/html:<p><a href=https://townsend.delaware.gov/
 files/2018/07/7-11-18-Council-meeting-agenda2.pdf>7-11-18 Council meet
 ing agenda(2)</a></p>\n
URL:https://townsend.delaware.gov/events/655/town-council-meeting/?lan
 g=en
ATTACH:https://townsend.delaware.gov/events/655/town-council-meeting/?
 lang=en
LOCATION:Town Hall\, 141 Main Street Townsend\, Delaware 19734\,
END:VEVENT
END:VCALENDAR
