BEGIN:VCALENDAR
VERSION:2.0
METHOD:PUBLISH
PRODID:-//hacksw/handcal//NONSGML v1.0//EN
BEGIN:VEVENT
DTSTAMP:20260426T001339Z
DTSTART:20161026T230000Z
DTEND:20161027T010000Z
UID:20161026T230000Z-20161027T010000Z-685@townsend.delaware.gov
SUMMARY:Planning Commission Meeting
DESCRIPTION:10-26-16 Planning Commission Agenda
X-ALT-DESC;FMTTYPE=text/html:<p><a href=https://townsend.delaware.gov/
 files/2018/08/10-26-16-Planning-Commission-Agenda.pdf>10-26-16 Plannin
 g Commission Agenda</a></p>\n
URL:https://townsend.delaware.gov/events/685/planning-commission-meeti
 ng/?lang=en
ATTACH:https://townsend.delaware.gov/events/685/planning-commission-me
 eting/?lang=en
LOCATION:Town Hall\, 141 Main Street Townsend\, Delaware 19734\,
END:VEVENT
END:VCALENDAR
