BEGIN:VCALENDAR
VERSION:2.0
METHOD:PUBLISH
PRODID:-//hacksw/handcal//NONSGML v1.0//EN
BEGIN:VEVENT
DTSTAMP:20260425T190547Z
DTSTART:20100602T233000Z
DTEND:20100603T003000Z
UID:20100602T233000Z-20100603T003000Z-77@townsend.delaware.gov
SUMMARY:Public Hearing/Town Council Meeting
DESCRIPTION:06-02-10: Counci/Re-Organization min
X-ALT-DESC;FMTTYPE=text/html:<p><a href=/files/2015/02/06-02-10-Counci
 l_Re-Organization_min.pdf target=_blank>06-02-10: Counci/Re-Organizati
 on min</a></p>\n
URL:https://townsend.delaware.gov/events/77/public-hearingtown-council
 -meeting/?lang=en
ATTACH:https://townsend.delaware.gov/events/77/public-hearingtown-coun
 cil-meeting/?lang=en
LOCATION:Townsend Fire Station\, 107 Main Street\, Townsend\, DE 19734
END:VEVENT
END:VCALENDAR
