BEGIN:VCALENDAR
VERSION:2.0
METHOD:PUBLISH
PRODID:-//hacksw/handcal//NONSGML v1.0//EN
BEGIN:VEVENT
DTSTAMP:20260425T114941Z
DTSTART:20100407T223000Z
DTEND:20100407T233000Z
UID:20100407T223000Z-20100407T233000Z-79@townsend.delaware.gov
SUMMARY:Public Hearing/Town Council Meeting
DESCRIPTION:04-07-10: Council/Public Hearing min
X-ALT-DESC;FMTTYPE=text/html:<p><a href=/files/2015/02/04-07-10-Counci
 l_Public_Hearing_min.pdf target=_blank>04-07-10: Council/Public Hearin
 g min</a></p>\n
URL:https://townsend.delaware.gov/events/79/public-hearingtown-council
 -meeting/?lang=en
ATTACH:https://townsend.delaware.gov/events/79/public-hearingtown-coun
 cil-meeting/?lang=en
LOCATION:Early Childhood Center\, Brook Ramble Lane\, Townsend\, DE 19
 734
END:VEVENT
END:VCALENDAR
