BEGIN:VCALENDAR
VERSION:2.0
METHOD:PUBLISH
PRODID:-//hacksw/handcal//NONSGML v1.0//EN
BEGIN:VEVENT
DTSTAMP:20260425T211812Z
DTSTART:20100303T230000Z
DTEND:20100304T000000Z
UID:20100303T230000Z-20100304T000000Z-80@townsend.delaware.gov
SUMMARY:Public Hearing/Town Council Meeting
DESCRIPTION:03-03-10: Council/Public Hearing min
X-ALT-DESC;FMTTYPE=text/html:<p><a href=/files/2015/02/03-03-10-Counci
 l_Public_Hearing_min.pdf target=_blank>03-03-10: Council/Public Hearin
 g min</a></p>\n
URL:https://townsend.delaware.gov/events/80/public-hearingtown-council
 -meeting/?lang=en
ATTACH:https://townsend.delaware.gov/events/80/public-hearingtown-coun
 cil-meeting/?lang=en
LOCATION:Townsend Elementary School Cafeteria\, 126 Main Street\, Town
 send\, DE 19734
END:VEVENT
END:VCALENDAR
