BEGIN:VCALENDAR
VERSION:2.0
METHOD:PUBLISH
PRODID:-//hacksw/handcal//NONSGML v1.0//EN
BEGIN:VEVENT
DTSTAMP:20260426T013544Z
DTSTART:20100203T220000Z
DTEND:20100204T003000Z
UID:20100203T220000Z-20100204T003000Z-81@townsend.delaware.gov
SUMMARY:Public Hearing/Town Council Meeting
DESCRIPTION:02-03-10: Council/Public Hearing min
X-ALT-DESC;FMTTYPE=text/html:<p><a href=/files/2015/02/02-03-10-Counci
 l_Public_Hearing_min.pdf target=_blank>02-03-10: Council/Public Hearin
 g min</a></p>\n
URL:https://townsend.delaware.gov/events/81/public-hearingtown-council
 -meeting/?lang=en
ATTACH:https://townsend.delaware.gov/events/81/public-hearingtown-coun
 cil-meeting/?lang=en
LOCATION:Townsend Fire Station\, 107 Main Street\, Townsend\, DE 19734
END:VEVENT
END:VCALENDAR
