BEGIN:VCALENDAR
VERSION:2.0
METHOD:PUBLISH
PRODID:-//hacksw/handcal//NONSGML v1.0//EN
BEGIN:VEVENT
DTSTAMP:20260425T114939Z
DTSTART:20091202T223000Z
DTEND:20091202T233000Z
UID:20091202T223000Z-20091202T233000Z-82@townsend.delaware.gov
SUMMARY:Public Hearing/Town Council Meeting
DESCRIPTION:12-02-09: Council min
X-ALT-DESC;FMTTYPE=text/html:<p><a href=/files/2015/02/12-02-09-Counci
 l_min.pdf target=_blank>12-02-09: Council min</a></p>\n
URL:https://townsend.delaware.gov/events/82/public-hearingtown-council
 -meeting/?lang=en
ATTACH:https://townsend.delaware.gov/events/82/public-hearingtown-coun
 cil-meeting/?lang=en
LOCATION:Townsend Fire Station\, 107 Main Street\, Townsend\, DE 19734
END:VEVENT
END:VCALENDAR
