BEGIN:VCALENDAR
VERSION:2.0
METHOD:PUBLISH
PRODID:-//hacksw/handcal//NONSGML v1.0//EN
BEGIN:VEVENT
DTSTAMP:20260419T163750Z
DTSTART:20191106T230000Z
DTEND:20191107T010000Z
UID:20191106T230000Z-20191107T010000Z-824@townsend.delaware.gov
SUMMARY:Town Council Meeting
DESCRIPTION:11-06-2019 Council Meeting Agenda Revised (003)\n\n11 06 1
 9 TC Workshop Minutes
X-ALT-DESC;FMTTYPE=text/html:<p><a href=https://townsend.delaware.gov/
 files/2019/11/11-06-2019-Council-Meeting-Agenda-Revised-003.pdf>11-06-
 2019 Council Meeting Agenda Revised (003)</a></p>\n<p><a href=https://
 townsend.delaware.gov/files/2020/02/11-06-19-TC-Workshop-Minutes.pdf>1
 1 06 19 TC Workshop Minutes</a></p>\n
URL:https://townsend.delaware.gov/events/town-council-meeting-9/?lang=
 en
ATTACH:https://townsend.delaware.gov/events/town-council-meeting-9/?la
 ng=en
LOCATION:Town Hall\, 141 Main Street Townsend\, Delaware 19734\,
END:VEVENT
END:VCALENDAR
