BEGIN:VCALENDAR
VERSION:2.0
METHOD:PUBLISH
PRODID:-//hacksw/handcal//NONSGML v1.0//EN
BEGIN:VEVENT
DTSTAMP:20260426T001338Z
DTSTART:20200205T230000Z
DTEND:20200206T010000Z
UID:20200205T230000Z-20200206T010000Z-977@townsend.delaware.gov
SUMMARY:Town Council Meeting
DESCRIPTION:2-5-2020-TC-Mtg-Agenda-1\n\n02 05 2020 TC Meeting Minutes
X-ALT-DESC;FMTTYPE=text/html:<p><a href=https://townsend.delaware.gov/
 files/2020/03/2-5-2020-TC-Mtg-Agenda-1.pdf>2-5-2020-TC-Mtg-Agenda-1</a
 ></p>\n<p><a href=https://townsend.delaware.gov/files/2020/02/02-05-20
 20-TC-Meeting-Minutes.pdf>02 05 2020 TC Meeting Minutes</a></p>\n
URL:https://townsend.delaware.gov/events/town-council-meeting-11/?lang
 =en
ATTACH:https://townsend.delaware.gov/events/town-council-meeting-11/?l
 ang=en
LOCATION:Town Hall\, 141 Main Street Townsend\, Delaware 19734\,
END:VEVENT
END:VCALENDAR
