BEGIN:VCALENDAR
VERSION:2.0
METHOD:PUBLISH
PRODID:-//hacksw/handcal//NONSGML v1.0//EN
BEGIN:VEVENT
DTSTAMP:20260426T013547Z
DTSTART:20200401T230000Z
DTEND:20200402T010000Z
UID:20200401T230000Z-20200402T010000Z-983@townsend.delaware.gov
SUMMARY:Town Council Meeting
DESCRIPTION:04-01-2020 TC Council Agenda\n\n04-01-2020 TC  Minutes_
X-ALT-DESC;FMTTYPE=text/html:<p><a href=https://townsend.delaware.gov/
 files/2020/03/04-01-2020-TC-Council-Agenda.pdf>04-01-2020 TC Council A
 genda</a></p>\n<p><a href=https://townsend.delaware.gov/files/2020/04/
 2020-4-1-TC-Workshop-Minutes_.pdf>04-01-2020 TC&nbsp\; Minutes_</a></p
 >\n
URL:https://townsend.delaware.gov/events/town-council-meeting-13/?lang
 =en
ATTACH:https://townsend.delaware.gov/events/town-council-meeting-13/?l
 ang=en
LOCATION:Town Hall\, 141 Main Street Townsend\, Delaware 19734\,
END:VEVENT
END:VCALENDAR
